BEGIN:VCALENDAR
VERSION:2.0
PRODID:-//eventon.com NONSGML v1.0//EN
BEGIN:VEVENT
UID:69ed77bad89b8
DTSTAMP:20260426T022602
DTSTART:20241221T120000Z
DTEND:20241221T140000Z
LOCATION:
SUMMARY:Senior Adult Ministry Dutch Treat Christmas Luncheon
DESCRIPTION: Senior Adult Ministry Dutch Treat Christmas Luncheon Senior Adult Ministry Dutch Treat Christmas Luncheon – Will be held Saturday\,  December 21\,  2024 at Longhorn Steak House 902A Gervais Street\,  Columbia\,  SC. 29201 from 12:00 pm to 2:00 pm. We plan for an afternoon of food\,  fun and fellowship. If you[..]
END:VEVENT
END:VCALENDAR