BEGIN:VCALENDAR
VERSION:2.0
PRODID:-//eventon.com NONSGML v1.0//EN
BEGIN:VEVENT
UID:69e6f9875eebd
DTSTAMP:20260421T041359
DTSTART:20220824T180000Z
DTEND:20220824T190000Z
LOCATION:
SUMMARY:BIBLE STUDY
DESCRIPTION: Join us weekly for Bible Study @6pm Go to ZOOM – https://us02web.zoom.us/j/86438971267?pwd =ZEl3TElkMlVJWkVta0pqZ0FIUkZYZz09 Meeting ID: 864 3897 1267 Passcode: 277911
END:VEVENT
END:VCALENDAR